BEGIN:VCALENDAR
VERSION:2.0
PRODID:-//Spirit Alkotó- és Motivációs Műhely - ECPv5.7.0//NONSGML v1.0//EN
CALSCALE:GREGORIAN
METHOD:PUBLISH
X-WR-CALNAME:Spirit Alkotó- és Motivációs Műhely
X-ORIGINAL-URL:https://spiritszinhaz.com
X-WR-CALDESC:Events for Spirit Alkotó- és Motivációs Műhely
BEGIN:VTIMEZONE
TZID:Europe/Budapest
BEGIN:DAYLIGHT
TZOFFSETFROM:+0100
TZOFFSETTO:+0200
TZNAME:CEST
DTSTART:20260329T010000
END:DAYLIGHT
BEGIN:STANDARD
TZOFFSETFROM:+0200
TZOFFSETTO:+0100
TZNAME:CET
DTSTART:20261025T010000
END:STANDARD
END:VTIMEZONE
BEGIN:VEVENT
DTSTART;TZID=Europe/Budapest:20260216T190000
DTEND;TZID=Europe/Budapest:20260216T190000
DTSTAMP:20260423T104928
CREATED:20250811T203125Z
LAST-MODIFIED:20251108T184822Z
UID:34315-1771268400-1771268400@spiritszinhaz.com
SUMMARY:Édesnégyes...mindhalálig - krimikomédia / a Spirit Alkotóműhely előadása
DESCRIPTION:Láttad már ezt az előadást? Írd meg a véleményed!
URL:https://spiritszinhaz.com/musor/edesnegyes-mindhalalig-krimikomedia-a-spirit-alkotomuhely-eloadasa-3/
LOCATION:Pécs\, PKK Apáczai Művelődési Ház
END:VEVENT
END:VCALENDAR