BEGIN:VCALENDAR
VERSION:2.0
PRODID:-//Spirit Alkotó- és Motivációs Műhely - ECPv5.7.0//NONSGML v1.0//EN
CALSCALE:GREGORIAN
METHOD:PUBLISH
X-WR-CALNAME:Spirit Alkotó- és Motivációs Műhely
X-ORIGINAL-URL:https://spiritszinhaz.com
X-WR-CALDESC:Events for Spirit Alkotó- és Motivációs Műhely
BEGIN:VTIMEZONE
TZID:Europe/Budapest
BEGIN:DAYLIGHT
TZOFFSETFROM:+0100
TZOFFSETTO:+0200
TZNAME:CEST
DTSTART:20250330T010000
END:DAYLIGHT
BEGIN:STANDARD
TZOFFSETFROM:+0200
TZOFFSETTO:+0100
TZNAME:CET
DTSTART:20251026T010000
END:STANDARD
END:VTIMEZONE
BEGIN:VEVENT
DTSTART;TZID=Europe/Budapest:20251115T190000
DTEND;TZID=Europe/Budapest:20251115T190000
DTSTAMP:20260425T125147
CREATED:20241212T140214Z
LAST-MODIFIED:20250418T163034Z
UID:33581-1763233200-1763233200@spiritszinhaz.com
SUMMARY:Különben jól vagyok - egy este Popper Péter írásaiból / Perjés János motivációs színháza
DESCRIPTION:Láttad már ezt az előadást? Írd meg a véleményed!
URL:https://spiritszinhaz.com/musor/kulonben-jol-vagyok-egy-este-popper-peter-irasaibol-perjes-janos-motivacios-szinhaza-14/
LOCATION:Hódmezővásárhely\, Bessenyei Ferenc Művelődési Központ
CATEGORIES:Különben jól vagyok
END:VEVENT
END:VCALENDAR