BEGIN:VCALENDAR
VERSION:2.0
PRODID:-//Spirit Alkotó- és Motivációs Műhely - ECPv5.7.0//NONSGML v1.0//EN
CALSCALE:GREGORIAN
METHOD:PUBLISH
X-WR-CALNAME:Spirit Alkotó- és Motivációs Műhely
X-ORIGINAL-URL:https://spiritszinhaz.com
X-WR-CALDESC:Events for Spirit Alkotó- és Motivációs Műhely
BEGIN:VTIMEZONE
TZID:Europe/Budapest
BEGIN:DAYLIGHT
TZOFFSETFROM:+0100
TZOFFSETTO:+0200
TZNAME:CEST
DTSTART:20250330T010000
END:DAYLIGHT
BEGIN:STANDARD
TZOFFSETFROM:+0200
TZOFFSETTO:+0100
TZNAME:CET
DTSTART:20251026T010000
END:STANDARD
END:VTIMEZONE
BEGIN:VEVENT
DTSTART;TZID=Europe/Budapest:20251121T180000
DTEND;TZID=Europe/Budapest:20251121T180000
DTSTAMP:20260425T125319
CREATED:20250705T192932Z
LAST-MODIFIED:20250919T172018Z
UID:34263-1763748000-1763748000@spiritszinhaz.com
SUMMARY:Különben jól vagyok - egy este Popper Péter írásaiból / Perjés János motivációs színházi estje
DESCRIPTION:Láttad már ezt az előadást? Írd meg a véleményed!
URL:https://spiritszinhaz.com/musor/kulonben-jol-vagyok-egy-este-popper-peter-irasaibol-perjes-janos-motivacios-szinhazi-estje-2/
LOCATION:Debrecen\, Demki Közösségi Ház
CATEGORIES:Különben jól vagyok
END:VEVENT
END:VCALENDAR