BEGIN:VCALENDAR
VERSION:2.0
PRODID:-//Spirit Alkotó- és Motivációs Műhely - ECPv5.7.0//NONSGML v1.0//EN
CALSCALE:GREGORIAN
METHOD:PUBLISH
X-WR-CALNAME:Spirit Alkotó- és Motivációs Műhely
X-ORIGINAL-URL:https://spiritszinhaz.com
X-WR-CALDESC:Events for Spirit Alkotó- és Motivációs Műhely
BEGIN:VTIMEZONE
TZID:Europe/Budapest
BEGIN:DAYLIGHT
TZOFFSETFROM:+0100
TZOFFSETTO:+0200
TZNAME:CEST
DTSTART:20260329T010000
END:DAYLIGHT
BEGIN:STANDARD
TZOFFSETFROM:+0200
TZOFFSETTO:+0100
TZNAME:CET
DTSTART:20261025T010000
END:STANDARD
END:VTIMEZONE
BEGIN:VEVENT
DTSTART;TZID=Europe/Budapest:20260223T190000
DTEND;TZID=Europe/Budapest:20260223T190000
DTSTAMP:20260423T150704
CREATED:20251205T163754Z
LAST-MODIFIED:20251205T163754Z
UID:34478-1771873200-1771873200@spiritszinhaz.com
SUMMARY:Van élet 65 felett - tragikomédia az örök szerelemről / a Spirit Alkotóműhely előadása
DESCRIPTION:Láttad már ezt az előadást? Írd meg a véleményed!
URL:https://spiritszinhaz.com/musor/van-elet-65-felett-tragikomedia-az-orok-szerelemrol-a-spirit-alkotomuhely-eloadasa/
LOCATION:Spirit Alkotó és Motivációs műhely\, 1066\, Budapest\, 1066\, Magyarország
END:VEVENT
END:VCALENDAR