BEGIN:VCALENDAR
VERSION:2.0
PRODID:-//Spirit Alkotó- és Motivációs Műhely - ECPv5.7.0//NONSGML v1.0//EN
CALSCALE:GREGORIAN
METHOD:PUBLISH
X-WR-CALNAME:Spirit Alkotó- és Motivációs Műhely
X-ORIGINAL-URL:https://spiritszinhaz.com
X-WR-CALDESC:Events for Spirit Alkotó- és Motivációs Műhely
BEGIN:VTIMEZONE
TZID:Europe/Budapest
BEGIN:DAYLIGHT
TZOFFSETFROM:+0100
TZOFFSETTO:+0200
TZNAME:CEST
DTSTART:20250330T010000
END:DAYLIGHT
BEGIN:STANDARD
TZOFFSETFROM:+0200
TZOFFSETTO:+0100
TZNAME:CET
DTSTART:20251026T010000
END:STANDARD
END:VTIMEZONE
BEGIN:VEVENT
DTSTART;TZID=Europe/Budapest:20251115T190000
DTEND;TZID=Europe/Budapest:20251115T190000
DTSTAMP:20260425T125012
CREATED:20250605T121942Z
LAST-MODIFIED:20250605T121942Z
UID:34140-1763233200-1763233200@spiritszinhaz.com
SUMMARY:Zene az kell! Zenés színházi kalandozás / Töreky Erzsi estje
DESCRIPTION:Láttad már ezt az előadást? Írd meg a véleményed!
URL:https://spiritszinhaz.com/musor/zene-az-kell-zenes-szinhazi-kalandozas-toreky-erzsi-estje-2/
LOCATION:Spirit Alkotó és Motivációs műhely\, 1066\, Budapest\, 1066\, Magyarország
END:VEVENT
END:VCALENDAR